BEGIN:VCALENDAR
PRODID:Nexudus
VERSION:2.0
BEGIN:VTIMEZONE
TZID:Europe/London
X-LIC-LOCATION:Europe/London
BEGIN:STANDARD
DTSTART:20241027T020000
RRULE:FREQ=YEARLY;BYDAY=-1SU;BYMONTH=10
TZNAME:GMT
TZOFFSETFROM:+0100
TZOFFSETTO:+0000
END:STANDARD
BEGIN:DAYLIGHT
DTSTART:20250330T010000
RRULE:FREQ=YEARLY;BYDAY=-1SU;BYMONTH=3
TZNAME:BST
TZOFFSETFROM:+0000
TZOFFSETTO:+0100
END:DAYLIGHT
END:VTIMEZONE
BEGIN:VEVENT
DESCRIPTION:Please come along to meet other members\, make connections and 
 meet The Clubhouse team\, along with hearing more about our exciting plans
  for 2016. Join us for canapes\, music\, champagne and mulled wine - feel 
 free to stay for as little or as long as you like\, and even if its just f
 or a quick drink before heading on to another Christmas party!\nEvent link
 : https://theclubhousegraftonstreet.spaces.nexudus.com/en/events/view/9825
 7222/the-clubhouse-members-christmas-drinks\n
DTEND;TZID=Europe/London:20151216T200000
DTSTAMP:20260421T115954Z
DTSTART;TZID=Europe/London:20151216T180000
LOCATION:Grafton Street
SEQUENCE:0
SUMMARY:The Clubhouse Members Christmas Drinks
UID:3fe35c12-cd07-4e82-a4a7-21c41cff22fb
END:VEVENT
END:VCALENDAR
