BEGIN:VCALENDAR
PRODID:Nexudus
VERSION:2.0
BEGIN:VTIMEZONE
TZID:Europe/London
X-LIC-LOCATION:Europe/London
BEGIN:STANDARD
DTSTART:20241027T020000
RRULE:FREQ=YEARLY;BYDAY=-1SU;BYMONTH=10
TZNAME:GMT
TZOFFSETFROM:+0100
TZOFFSETTO:+0000
END:STANDARD
BEGIN:DAYLIGHT
DTSTART:20250330T010000
RRULE:FREQ=YEARLY;BYDAY=-1SU;BYMONTH=3
TZNAME:BST
TZOFFSETFROM:+0000
TZOFFSETTO:+0100
END:DAYLIGHT
END:VTIMEZONE
BEGIN:VEVENT
DESCRIPTION:Wednesday 29th April\nThe Clubhouse\, 11-14 Grafton Street\nEve
 nt link: https://theclubhousegraftonstreet.spaces.nexudus.com/en/events/vi
 ew/37683648/the-clubhouse-annual-art-week\n
DTEND;TZID=Europe/London:20150429T200000
DTSTAMP:20260421T133958Z
DTSTART;TZID=Europe/London:20150429T183000
LOCATION:Grafton Street
SEQUENCE:0
SUMMARY:The Clubhouse Annual Art Week
UID:cfe10c01-03f1-4a4a-8eea-2b6728555194
END:VEVENT
END:VCALENDAR
