BEGIN:VCALENDAR
PRODID:Nexudus
VERSION:2.0
BEGIN:VTIMEZONE
TZID:Europe/London
X-LIC-LOCATION:Europe/London
BEGIN:STANDARD
DTSTART:20241027T020000
RRULE:FREQ=YEARLY;BYDAY=-1SU;BYMONTH=10
TZNAME:GMT
TZOFFSETFROM:+0100
TZOFFSETTO:+0000
END:STANDARD
BEGIN:DAYLIGHT
DTSTART:20250330T010000
RRULE:FREQ=YEARLY;BYDAY=-1SU;BYMONTH=3
TZNAME:BST
TZOFFSETFROM:+0000
TZOFFSETTO:+0100
END:DAYLIGHT
END:VTIMEZONE
BEGIN:VEVENT
DESCRIPTION:Join our partner ProgenyWealth in their first quarterly breakfa
 st seminar at The Clubhouse. \n\nWith the recent tax reforms introduced in
  2015 together with additional reforms proposed and the chancellor's budge
 t looming on 16th of March\, it is now more important than ever to lock in
  the tax breaks currently available before we move into an uncertain 2016/
 17.\n\nThe good news is there is still time and in this seminar we will ou
 tline the tax planning tips worth considering before the end of the tax ye
 ar.\nEvent link: https://theclubhousegraftonstreet.spaces.nexudus.com/en/e
 vents/view/139111993/use-them-or-lose-them---year-end-tax-planning-tips-to
 -consider-before-5th-april-2016\n
DTEND;TZID=Europe/London:20160301T103000
DTSTAMP:20260421T115952Z
DTSTART;TZID=Europe/London:20160301T080000
LOCATION:Grafton Street
SEQUENCE:0
SUMMARY:Use them or Lose them!! Year end tax planning tips to consider befo
 re 5th April 2016
UID:3407bee4-8dd9-45a2-be9b-53f2b987d37b
END:VEVENT
END:VCALENDAR
