BEGIN:VCALENDAR
PRODID:Nexudus
VERSION:2.0
BEGIN:VTIMEZONE
TZID:Europe/London
X-LIC-LOCATION:Europe/London
BEGIN:STANDARD
DTSTART:20241027T020000
RRULE:FREQ=YEARLY;BYDAY=-1SU;BYMONTH=10
TZNAME:GMT
TZOFFSETFROM:+0100
TZOFFSETTO:+0000
END:STANDARD
BEGIN:DAYLIGHT
DTSTART:20250330T010000
RRULE:FREQ=YEARLY;BYDAY=-1SU;BYMONTH=3
TZNAME:BST
TZOFFSETFROM:+0000
TZOFFSETTO:+0100
END:DAYLIGHT
END:VTIMEZONE
BEGIN:VEVENT
DESCRIPTION:The Clubhouse will be participating in World's Biggest Coffee M
 orning for Macmillan's biggest fundraising event for people facing cancer.
  \nEvent link: https://theclubhousegraftonstreet.spaces.nexudus.com/en/eve
 nts/view/67828762/macmillan-coffee-morning\n
DTEND;TZID=Europe/London:20150925T100000
DTSTAMP:20260422T000334Z
DTSTART;TZID=Europe/London:20150925T073000
LOCATION:Grafton Street
SEQUENCE:0
SUMMARY: Macmillan Coffee Morning
UID:fb41d192-f93b-4ffd-8397-9ad7375ee1e8
END:VEVENT
END:VCALENDAR
