BEGIN:VCALENDAR
PRODID:Nexudus
VERSION:2.0
BEGIN:VTIMEZONE
TZID:Europe/London
X-LIC-LOCATION:Europe/London
BEGIN:STANDARD
DTSTART:20241027T020000
RRULE:FREQ=YEARLY;BYDAY=-1SU;BYMONTH=10
TZNAME:GMT
TZOFFSETFROM:+0100
TZOFFSETTO:+0000
END:STANDARD
BEGIN:DAYLIGHT
DTSTART:20250330T010000
RRULE:FREQ=YEARLY;BYDAY=-1SU;BYMONTH=3
TZNAME:BST
TZOFFSETFROM:+0000
TZOFFSETTO:+0100
END:DAYLIGHT
END:VTIMEZONE
BEGIN:VEVENT
DESCRIPTION:RUGBY WORLD CUP PREVIEW WITH BRITISH & IRISH LEGENDS\n\nWednesd
 ay 3rd June\, 6.30pm - 9.30pm\nThe Clubhouse\, 11-14 Grafton Street\, Lond
 on\, W1S 4EW\n\nEvent link: https://theclubhousegraftonstreet.spaces.nexud
 us.com/en/events/view/42783017/hiro-house\n
DTEND;TZID=Europe/London:20150603T210000
DTSTAMP:20260422T000753Z
DTSTART;TZID=Europe/London:20150603T183000
LOCATION:Grafton Street
SEQUENCE:0
SUMMARY:HIRO HOUSE
UID:0dbb03c2-8a41-4c62-83bd-022ca4fe0cc7
END:VEVENT
END:VCALENDAR
