BEGIN:VCALENDAR
PRODID:Nexudus
VERSION:2.0
BEGIN:VTIMEZONE
TZID:Europe/London
X-LIC-LOCATION:Europe/London
BEGIN:STANDARD
DTSTART:20241027T020000
RRULE:FREQ=YEARLY;BYDAY=-1SU;BYMONTH=10
TZNAME:GMT
TZOFFSETFROM:+0100
TZOFFSETTO:+0000
END:STANDARD
BEGIN:DAYLIGHT
DTSTART:20250330T010000
RRULE:FREQ=YEARLY;BYDAY=-1SU;BYMONTH=3
TZNAME:BST
TZOFFSETFROM:+0000
TZOFFSETTO:+0100
END:DAYLIGHT
END:VTIMEZONE
BEGIN:VEVENT
DESCRIPTION:We are very excited to host this panel evening with two incredi
 ble guest speakers: Mich Tuner MBE\, Founder of The Little Venice Cake Com
 pany and Nancy Cruickshank\, Founder and CEO of My Showcase. \n\nMich work
 ed as a bakery and pattiserie Buyer for Harvey Nichols\, before founding T
 he Little Venice Cake Company in 1999. She is often described as 'Queen of
  Couture Cakes'\, thanks to her multi-award winning designs and A-list cli
 entele for whom she has made over 10\,000 cakes - including cakes for Her 
 Majesty The Queen\, Madonna\, Ozzy Osbourne\, Gordon Ramsay\, David Beckha
 m\, and Simon Cowell.\n\nNancy\, a self-confessed beauty junkie and techno
 logy addict\, is often described as a 'serial entrepreneur' and has an adv
 isory role in a number of companies. She launched the pioneering fashion a
 nd beauty portal Handbag.com in 2001\, which she sold in 2006 for £22 mil
 lion. She is currently Founder and CEO of My Showcase\, an innovative beau
 ty retailer that champions female entrepreneurialism and independent brand
 s.\n\nPlease join us for this special evening to hear from two very succes
 sful entrepreneurs.\n\nEvent link: https://theclubhousegraftonstreet.space
 s.nexudus.com/en/events/view/142548428/an-evening-with-mich-turner-mbe-and
 -nancy-cruickshank\n
DTEND;TZID=Europe/London:20160315T203000
DTSTAMP:20260421T222319Z
DTSTART;TZID=Europe/London:20160315T183000
LOCATION:Grafton Street
SEQUENCE:0
SUMMARY:An Evening With Mich Turner MBE and Nancy Cruickshank
UID:1e93baf9-c9d6-41e3-9776-0748b7dafaa9
END:VEVENT
END:VCALENDAR
