BEGIN:VCALENDAR
PRODID:Nexudus
VERSION:2.0
BEGIN:VTIMEZONE
TZID:Europe/London
X-LIC-LOCATION:Europe/London
BEGIN:STANDARD
DTSTART:20241027T020000
RRULE:FREQ=YEARLY;BYDAY=-1SU;BYMONTH=10
TZNAME:GMT
TZOFFSETFROM:+0100
TZOFFSETTO:+0000
END:STANDARD
BEGIN:DAYLIGHT
DTSTART:20250330T010000
RRULE:FREQ=YEARLY;BYDAY=-1SU;BYMONTH=3
TZNAME:BST
TZOFFSETFROM:+0000
TZOFFSETTO:+0100
END:DAYLIGHT
END:VTIMEZONE
BEGIN:VEVENT
DESCRIPTION:'How well does your business do digital marketing' will give yo
 u an insight into the practicals of the digital marketing world and what i
 t can do for your business. Is spending on social media\, apps and PPC rea
 lly worth it? How do you measure ROI?\n\nHere\, you will get the chance to
  learn from a team of highly-experienced individuals from the digital mark
 eting world including those from the mobile app industry\, who will help g
 uide your business to increased success as a result!\nEvent link: https://
 theclubhousegraftonstreet.spaces.nexudus.com/en/events/view/197069914/-how
 -well-does-your-business-do-digital-marketing---breakfast-with-results-thr
 ough-digital\n
DTEND;TZID=Europe/London:20160524T113000
DTSTAMP:20260421T102808Z
DTSTART;TZID=Europe/London:20160524T083000
LOCATION:Grafton Street
SEQUENCE:0
SUMMARY:'How well does your business do digital marketing?' Breakfast with 
 Results Through Digital
UID:3ae1958c-069e-4707-ad85-175866d6e761
END:VEVENT
END:VCALENDAR
