BEGIN:VCALENDAR
PRODID:Nexudus
VERSION:2.0
BEGIN:VTIMEZONE
TZID:Europe/London
X-LIC-LOCATION:Europe/London
BEGIN:STANDARD
DTSTART:20241027T020000
RRULE:FREQ=YEARLY;BYDAY=-1SU;BYMONTH=10
TZNAME:GMT
TZOFFSETFROM:+0100
TZOFFSETTO:+0000
END:STANDARD
BEGIN:DAYLIGHT
DTSTART:20250330T010000
RRULE:FREQ=YEARLY;BYDAY=-1SU;BYMONTH=3
TZNAME:BST
TZOFFSETFROM:+0000
TZOFFSETTO:+0100
END:DAYLIGHT
END:VTIMEZONE
BEGIN:VEVENT
DESCRIPTION:The forum is one of the largest events of its kind in the UK\, 
 allowing entrepreneurs to network with 500 key decision makers from leadin
 g high-growth SMEs\, corporates and investors. Build strategic partnership
 s\, discuss innovation\, network with some of the World's leading entrepre
 neurs\, VCs and corporates\, and stop by our stand when you attend this En
 trepreneurCountry Forum.\n\nEvent link: https://theclubhousegraftonstreet.
 spaces.nexudus.com/en/events/view/184852685/entrepreneurcountry-forum\n
DTEND;TZID=Europe/London:20160419T180000
DTSTAMP:20260421T103237Z
DTSTART;TZID=Europe/London:20160419T090000
LOCATION:Grafton Street
SEQUENCE:0
SUMMARY:EntrepreneurCountry Forum
UID:31d23d57-38af-4d12-a158-efe89b17381e
END:VEVENT
END:VCALENDAR
