BEGIN:VCALENDAR
PRODID:Nexudus
VERSION:2.0
BEGIN:VTIMEZONE
TZID:Europe/London
X-LIC-LOCATION:Europe/London
BEGIN:STANDARD
DTSTART:20241027T020000
RRULE:FREQ=YEARLY;BYDAY=-1SU;BYMONTH=10
TZNAME:GMT
TZOFFSETFROM:+0100
TZOFFSETTO:+0000
END:STANDARD
BEGIN:DAYLIGHT
DTSTART:20250330T010000
RRULE:FREQ=YEARLY;BYDAY=-1SU;BYMONTH=3
TZNAME:BST
TZOFFSETFROM:+0000
TZOFFSETTO:+0100
END:DAYLIGHT
END:VTIMEZONE
BEGIN:VEVENT
DESCRIPTION:'The Resillient Mindset'\nSporting Edge Breakfast with Jeremy S
 nape\nWednesday 2nd December\, 8.30am - 10.30am\nThe Clubhouse\, 11-14 Gra
 fton Street\nFREE for Members|£25 for Non-Members\nEvent link: https://th
 eclubhousegraftonstreet.spaces.nexudus.com/en/events/view/88461655/-the-re
 silient-mindset--sporting-edge-breakfast-with-jeremy-snape\n
DTEND;TZID=Europe/London:20151202T103000
DTSTAMP:20260421T103303Z
DTSTART;TZID=Europe/London:20151202T083000
LOCATION:Grafton Street
SEQUENCE:0
SUMMARY:'The Resilient Mindset' Sporting Edge Breakfast with Jeremy Snape
UID:b0ecbf91-897b-4279-bf00-54309726393c
END:VEVENT
END:VCALENDAR
