BEGIN:VCALENDAR
PRODID:Nexudus
VERSION:2.0
BEGIN:VTIMEZONE
TZID:Europe/London
X-LIC-LOCATION:Europe/London
BEGIN:STANDARD
DTSTART:20241027T020000
RRULE:FREQ=YEARLY;BYDAY=-1SU;BYMONTH=10
TZNAME:GMT
TZOFFSETFROM:+0100
TZOFFSETTO:+0000
END:STANDARD
BEGIN:DAYLIGHT
DTSTART:20250330T010000
RRULE:FREQ=YEARLY;BYDAY=-1SU;BYMONTH=3
TZNAME:BST
TZOFFSETFROM:+0000
TZOFFSETTO:+0100
END:DAYLIGHT
END:VTIMEZONE
BEGIN:VEVENT
DESCRIPTION:Wednesday 20th May 6:30-9:00pm\nThe Clubhouse\, 11-14 Grafton S
 treet\nFREE to members and their guests / £25 non-members\n\nPlease be aw
 are that the talk will start promptly at 6:45pm\nEvent link: https://thecl
 ubhousegraftonstreet.spaces.nexudus.com/en/events/view/37683647/an-evening
 -with-luke-johnson\n
DTEND;TZID=Europe/London:20150520T203000
DTSTAMP:20260421T151256Z
DTSTART;TZID=Europe/London:20150520T183000
LOCATION:Grafton Street
SEQUENCE:0
SUMMARY:An Evening with Luke Johnson
UID:6beacb4d-1532-4780-9c19-99f3cf4b65b1
END:VEVENT
END:VCALENDAR
