BEGIN:VCALENDAR
PRODID:Nexudus
VERSION:2.0
BEGIN:VTIMEZONE
TZID:Europe/London
X-LIC-LOCATION:Europe/London
BEGIN:STANDARD
DTSTART:20241027T020000
RRULE:FREQ=YEARLY;BYDAY=-1SU;BYMONTH=10
TZNAME:GMT
TZOFFSETFROM:+0100
TZOFFSETTO:+0000
END:STANDARD
BEGIN:DAYLIGHT
DTSTART:20250330T010000
RRULE:FREQ=YEARLY;BYDAY=-1SU;BYMONTH=3
TZNAME:BST
TZOFFSETFROM:+0000
TZOFFSETTO:+0100
END:DAYLIGHT
END:VTIMEZONE
BEGIN:VEVENT
DESCRIPTION:In this inspiring session\, former England cricketer and founde
 r of high performance consultancy Sporting Edge will be providing practica
 l tools and techniques to inspire your teams. By exploring the psychology 
 of teams coming together\, Jeremy will use exclusive research interviews w
 ith some of the world’s leading sports coaches and behavioural scientist
 s to help you set your team up for success. Jeremy will also be showcasing
  a cutting edge digital coaching platform which allows you to access the s
 ecrets of success - on demand.\nEvent link: https://theclubhousegraftonstr
 eet.spaces.nexudus.com/en/events/view/176754579/-creating-winning-teams--b
 reakfast-seminar-with-jeremy-snape\n
DTEND;TZID=Europe/London:20160506T103000
DTSTAMP:20260419T153017Z
DTSTART;TZID=Europe/London:20160506T083000
LOCATION:Grafton Street
SEQUENCE:0
SUMMARY:'Creating Winning Teams' Breakfast Seminar with Jeremy Snape
UID:c050632f-bb21-4a4d-be2f-1d50cbe90b74
END:VEVENT
END:VCALENDAR
