BEGIN:VCALENDAR
PRODID:Nexudus
VERSION:2.0
BEGIN:VTIMEZONE
TZID:Europe/London
X-LIC-LOCATION:Europe/London
BEGIN:STANDARD
DTSTART:20241027T020000
RRULE:FREQ=YEARLY;BYDAY=-1SU;BYMONTH=10
TZNAME:GMT
TZOFFSETFROM:+0100
TZOFFSETTO:+0000
END:STANDARD
BEGIN:DAYLIGHT
DTSTART:20250330T010000
RRULE:FREQ=YEARLY;BYDAY=-1SU;BYMONTH=3
TZNAME:BST
TZOFFSETFROM:+0000
TZOFFSETTO:+0100
END:DAYLIGHT
END:VTIMEZONE
BEGIN:VEVENT
DESCRIPTION:In this interactive breakfast seminar\, Almuth will address sev
 en future trends about work-life balance\, in the context of recent psycho
 logical and business research\, but also taking into the account the pract
 icalities of how work is continuing to change. The talk will close with so
 me practical suggestions for introducing more balance into our lives.\nEve
 nt link: https://theclubhousegraftonstreet.spaces.nexudus.com/en/events/vi
 ew/137258121/work-life-balance-breakfast-seminar-with-dr--almuth-mcdowell\
 n
DTEND;TZID=Europe/London:20160308T093000
DTSTAMP:20260421T101515Z
DTSTART;TZID=Europe/London:20160308T080000
LOCATION:Grafton Street
SEQUENCE:0
SUMMARY:Work Life Balance Breakfast Seminar with Dr. Almuth McDowell
UID:00dec786-9680-49b4-bf73-502cdcc43e01
END:VEVENT
END:VCALENDAR
