BEGIN:VCALENDAR
PRODID:Nexudus
VERSION:2.0
BEGIN:VTIMEZONE
TZID:Europe/London
X-LIC-LOCATION:Europe/London
BEGIN:STANDARD
DTSTART:20241027T020000
RRULE:FREQ=YEARLY;BYDAY=-1SU;BYMONTH=10
TZNAME:GMT
TZOFFSETFROM:+0100
TZOFFSETTO:+0000
END:STANDARD
BEGIN:DAYLIGHT
DTSTART:20250330T010000
RRULE:FREQ=YEARLY;BYDAY=-1SU;BYMONTH=3
TZNAME:BST
TZOFFSETFROM:+0000
TZOFFSETTO:+0100
END:DAYLIGHT
END:VTIMEZONE
BEGIN:VEVENT
DESCRIPTION:Wednesday 14th October 6:30-8:30pm\nThe Clubhouse\, 11-14 Graft
 on Street\nFREE to members | £25 non-members \nEvent link: https://theclu
 bhousegraftonstreet.spaces.nexudus.com/en/events/view/67694637/an-evening-
 with-mission-authors-michael-hayman---nick-giles-together-with-a-panel-of-
 guest-speakers-including-paul-lindley--sarah-wood-and-will-king\n
DTEND;TZID=Europe/London:20151014T203000
DTSTAMP:20260421T115830Z
DTSTART;TZID=Europe/London:20151014T183000
LOCATION:Grafton Street
SEQUENCE:0
SUMMARY:An Evening with Mission authors Michael Hayman & Nick Giles togethe
 r with a panel of guest speakers including Paul Lindley\, Sarah Wood and W
 ill King
UID:ad5578dc-f2ce-4840-aaf4-378f69ea5128
END:VEVENT
END:VCALENDAR
