BEGIN:VCALENDAR
PRODID:Nexudus
VERSION:2.0
BEGIN:VTIMEZONE
TZID:Europe/London
X-LIC-LOCATION:Europe/London
BEGIN:STANDARD
DTSTART:20241027T020000
RRULE:FREQ=YEARLY;BYDAY=-1SU;BYMONTH=10
TZNAME:GMT
TZOFFSETFROM:+0100
TZOFFSETTO:+0000
END:STANDARD
BEGIN:DAYLIGHT
DTSTART:20250330T010000
RRULE:FREQ=YEARLY;BYDAY=-1SU;BYMONTH=3
TZNAME:BST
TZOFFSETFROM:+0000
TZOFFSETTO:+0100
END:DAYLIGHT
END:VTIMEZONE
BEGIN:VEVENT
DESCRIPTION:Please join us for a Classic versus Contemporary wine tasting e
 vening with wine personality\, Robert Joseph and Planet Thirst Director\, 
 Sophie Jump.\n\n \nEvent link: https://theclubhousegraftonstreet.spaces.ne
 xudus.com/en/events/view/46115078/planet-thirst-wine-tasting\n
DTEND;TZID=Europe/London:20150701T193000
DTSTAMP:20260421T152749Z
DTSTART;TZID=Europe/London:20150701T183000
LOCATION:Grafton Street
SEQUENCE:0
SUMMARY:Planet Thirst Wine Tasting
UID:e6cf6186-dcf6-4332-b415-302d85ea8ce9
END:VEVENT
END:VCALENDAR
